BEGIN:VCALENDAR
VERSION:2.0
PRODID:-//Niseko Village - ECPv6.2.2//NONSGML v1.0//EN
CALSCALE:GREGORIAN
METHOD:PUBLISH
X-ORIGINAL-URL:https://www.niseko-village.com
X-WR-CALDESC:Events for Niseko Village
REFRESH-INTERVAL;VALUE=DURATION:PT1H
X-Robots-Tag:noindex
X-PUBLISHED-TTL:PT1H
BEGIN:VTIMEZONE
TZID:Europe/London
BEGIN:DAYLIGHT
TZOFFSETFROM:+0000
TZOFFSETTO:+0100
TZNAME:BST
DTSTART:20240331T010000
END:DAYLIGHT
BEGIN:STANDARD
TZOFFSETFROM:+0100
TZOFFSETTO:+0000
TZNAME:GMT
DTSTART:20241027T010000
END:STANDARD
BEGIN:DAYLIGHT
TZOFFSETFROM:+0000
TZOFFSETTO:+0100
TZNAME:BST
DTSTART:20250330T010000
END:DAYLIGHT
BEGIN:STANDARD
TZOFFSETFROM:+0100
TZOFFSETTO:+0000
TZNAME:GMT
DTSTART:20251026T010000
END:STANDARD
BEGIN:DAYLIGHT
TZOFFSETFROM:+0000
TZOFFSETTO:+0100
TZNAME:BST
DTSTART:20260329T010000
END:DAYLIGHT
BEGIN:STANDARD
TZOFFSETFROM:+0100
TZOFFSETTO:+0000
TZNAME:GMT
DTSTART:20261025T010000
END:STANDARD
TZID:Asia/Tokyo
BEGIN:STANDARD
TZOFFSETFROM:+0900
TZOFFSETTO:+0900
TZNAME:JST
DTSTART:20240101T000000
END:STANDARD
END:VTIMEZONE
BEGIN:VEVENT
DTSTART;TZID=Europe/London:20251231T235900
DTEND;TZID=Europe/London:20260101T001000
DTSTAMP:20260424T225928
CREATED:20251029T064213Z
LAST-MODIFIED:20251224T011931Z
UID:10002921-1767225540-1767226200@www.niseko-village.com
SUMMARY:New Year's Countdown Fireworks
DESCRIPTION:Don’t miss the spectacular countdown fireworks display\, ushering in the New Year with a burst of dazzling lights and colours. Join us for this awe-inspiring celebration as we bid farewell to the past and welcome the future. \nLocation: Gondola Station \nTime: 00:00~
URL:https://www.niseko-village.com/event/countdown-fireworks-display-2/
LOCATION:Slopeside at Hilton Niseko Village
CATEGORIES:New Year’s Eve Event
ATTACH;FMTTYPE=image/png:https://www.niseko-village.com/wp-content/uploads/2023/10/Chinese-new-year-fireworks-display_18.9_1.png
END:VEVENT
BEGIN:VEVENT
DTSTART;TZID=Asia/Tokyo:20251231T233000
DTEND;TZID=Asia/Tokyo:20251231T235000
DTSTAMP:20260424T225928
CREATED:20251224T011810Z
LAST-MODIFIED:20251224T011810Z
UID:10003613-1767223800-1767225000@www.niseko-village.com
SUMMARY:New Year's Taiko Drum Live Performance
DESCRIPTION:Come and feel the powerful rhythm of Japanese traditional taiko drums at Hilton Niseko Village! \nLocation: The Flame Bar & Lounge\, Hilton Niseko Village \nTime: 23:30~ \n 
URL:https://www.niseko-village.com/event/new-years-taiko-drum-live-performance/
LOCATION:The Flame\, Bar and Lounge\, Hilton Niseko Village
CATEGORIES:New Year’s Eve Event
ATTACH;FMTTYPE=image/png:https://www.niseko-village.com/wp-content/uploads/2023/10/hilton-niseko_1-e1766538961729.png
END:VEVENT
BEGIN:VEVENT
DTSTART;TZID=Asia/Tokyo:20251231T191500
DTEND;TZID=Asia/Tokyo:20251231T200000
DTSTAMP:20260424T225928
CREATED:20251028T022719Z
LAST-MODIFIED:20251224T003912Z
UID:10002916-1767208500-1767211200@www.niseko-village.com
SUMMARY:New Year's Eve Torch Run
DESCRIPTION:Fantastic torchlight illuminate the slopes at night\, marking the finale of the 2025 year! Join us with your friends and family to create excitement and memories together. \nMeeting Location: The Green Leaf Niseko Village\, Tapestry Collection by Hilton \nMeeting Time: 18:30 \nTorch Run Location: Banzai Slope
URL:https://www.niseko-village.com/event/new-years-eve-torch-run/
LOCATION:The Green Leaf Niseko Village
CATEGORIES:New Year’s Eve Event
ATTACH;FMTTYPE=image/jpeg:https://www.niseko-village.com/wp-content/uploads/2024/12/Torchlight.jpg
END:VEVENT
BEGIN:VEVENT
DTSTART;TZID=Europe/London:20250101T061500
DTEND;TZID=Europe/London:20250101T073000
DTSTAMP:20260424T225928
CREATED:20231012T020302Z
LAST-MODIFIED:20241218T235156Z
UID:10000088-1735712100-1735716600@www.niseko-village.com
SUMMARY:New Year’s Day Sunrise Gondola
DESCRIPTION:Celebrate the dawn of the New Year atop a snow-covered mountain with the New Year’s Day sunrise Gondola at Niseko Village\, a breathtaking way to welcome a fresh beginning. \nTime:6:15 Ticket Sales6:30 Boarding Starts7:30 Downstairs boarding complete \nTicket Sales location:Niseko Gondola Base Station Building \nFees:Adults 2\,500 yen\, Children 1\,500 yen (Round -trip gondola fee\, not skiable)
URL:https://www.niseko-village.com/event/new-years-day-sunrise-gondola/
LOCATION:Niseko Gondola Summit Station Building
CATEGORIES:New Year’s Eve Event
ATTACH;FMTTYPE=image/png:https://www.niseko-village.com/wp-content/uploads/2023/10/new-year-gondola_18.9_1.png
END:VEVENT
BEGIN:VEVENT
DTSTART;TZID=Europe/London:20241231T235900
DTEND;TZID=Europe/London:20241231T235900
DTSTAMP:20260424T225928
CREATED:20231012T015939Z
LAST-MODIFIED:20240910T064300Z
UID:10000087-1735689540-1735689540@www.niseko-village.com
SUMMARY:Countdown Fireworks Display
DESCRIPTION:Don’t miss the spectacular countdown fireworks display\, ushering in the New Year with a burst of dazzling lights and colours. Join us for this awe-inspiring celebration as we bid farewell to the past and welcome the future.
URL:https://www.niseko-village.com/event/countdown-fireworks-display/
LOCATION:Slopeside at Hilton Niseko Village
CATEGORIES:New Year’s Eve Event
ATTACH;FMTTYPE=image/png:https://www.niseko-village.com/wp-content/uploads/2023/10/Chinese-new-year-fireworks-display_18.9_1.png
END:VEVENT
BEGIN:VEVENT
DTSTART;TZID=Asia/Tokyo:20241231T235900
DTEND;TZID=Asia/Tokyo:20241231T235900
DTSTAMP:20260424T225928
CREATED:20231012T015435Z
LAST-MODIFIED:20240910T064017Z
UID:10000085-1735689540-1735689540@www.niseko-village.com
SUMMARY:New Year’s Eve Soba Noodles
DESCRIPTION:Ring in the New Year with a delightful tradition! Enjoy delicious New Year’s Eve Soba Noodles at Hilton Niseko Village and The Green Leaf Niseko Village\, a tasty way to welcome the year ahead.
URL:https://www.niseko-village.com/event/new-years-eve-soba-noodles/
LOCATION:The Flame\, Bar and Lounge\, Hilton Niseko Village
CATEGORIES:New Year’s Eve Event
ATTACH;FMTTYPE=image/png:https://www.niseko-village.com/wp-content/uploads/2023/10/new-year-soba_18.9_1.png
END:VEVENT
BEGIN:VEVENT
DTSTART;TZID=Europe/London:20241231T230000
DTEND;TZID=Europe/London:20241231T235900
DTSTAMP:20260424T225928
CREATED:20231012T015057Z
LAST-MODIFIED:20240910T064353Z
UID:10000083-1735686000-1735689540@www.niseko-village.com
SUMMARY:Yotei Taiko Live Performance
DESCRIPTION:Come and feel the powerful rhythm of Yotei Daiko (羊蹄太鼓) at Niseko-yo! \nYotei Daiko is a part of Niseko area’s cultural heritage. Its beats are inspired by the beautiful nature surrounding Mt Yotei and tell the story of the lives of people in this snowy region.
URL:https://www.niseko-village.com/event/yotei-taiko-live-performance/
LOCATION:The Flame\, Bar and Lounge\, Hilton Niseko Village
CATEGORIES:New Year’s Eve Event
ATTACH;FMTTYPE=image/png:https://www.niseko-village.com/wp-content/uploads/2023/10/yotei-taiko_18.9_1.png
END:VEVENT
BEGIN:VEVENT
DTSTART;TZID=Asia/Tokyo:20241231T223000
DTEND;TZID=Asia/Tokyo:20241231T233000
DTSTAMP:20260424T225928
CREATED:20231012T015804Z
LAST-MODIFIED:20240910T063945Z
UID:10000086-1735684200-1735687800@www.niseko-village.com
SUMMARY:New Year’s Eve Soba Noodles
DESCRIPTION:Ring in the New Year with a delightful tradition! Enjoy delicious New Year’s Eve Soba Noodles at Hilton Niseko Village and The Green Leaf Niseko Village\, a tasty way to welcome the year ahead.
URL:https://www.niseko-village.com/event/new-years-eve-soba-noodles-2/
LOCATION:1F Lounge\, The Green Leaf Niseko Village
CATEGORIES:New Year’s Eve Event
ATTACH;FMTTYPE=image/png:https://www.niseko-village.com/wp-content/uploads/2023/10/new-year-soba_18.9_1.png
END:VEVENT
BEGIN:VEVENT
DTSTART;TZID=Asia/Tokyo:20241231T200000
DTEND;TZID=Asia/Tokyo:20241231T213000
DTSTAMP:20260424T225928
CREATED:20231012T015245Z
LAST-MODIFIED:20240910T064244Z
UID:10000084-1735675200-1735680600@www.niseko-village.com
SUMMARY:Live Jazz Band Performance
DESCRIPTION:Time to get your jazz on! Experience the soulful rhythms and improvisations of a live jazz performance at The Green Leaf Niseko Village. Let the music take you on a journey\, in the heart of this serene mountain retreat.
URL:https://www.niseko-village.com/event/live-jazz-band-performance/
LOCATION:1F Lounge\, The Green Leaf Niseko Village
CATEGORIES:New Year’s Eve Event
ATTACH;FMTTYPE=image/png:https://www.niseko-village.com/wp-content/uploads/2023/10/live-jazz_18.9.png
END:VEVENT
END:VCALENDAR