BEGIN:VCALENDAR
VERSION:2.0
PRODID:-//Niseko Village - ECPv6.2.2//NONSGML v1.0//EN
CALSCALE:GREGORIAN
METHOD:PUBLISH
X-WR-CALNAME:Niseko Village
X-ORIGINAL-URL:https://www.niseko-village.com
X-WR-CALDESC:Events for Niseko Village
REFRESH-INTERVAL;VALUE=DURATION:PT1H
X-Robots-Tag:noindex
X-PUBLISHED-TTL:PT1H
BEGIN:VTIMEZONE
TZID:Asia/Tokyo
BEGIN:STANDARD
TZOFFSETFROM:+0900
TZOFFSETTO:+0900
TZNAME:JST
DTSTART:20250101T000000
END:STANDARD
TZID:Europe/London
BEGIN:DAYLIGHT
TZOFFSETFROM:+0000
TZOFFSETTO:+0100
TZNAME:BST
DTSTART:20250330T010000
END:DAYLIGHT
BEGIN:STANDARD
TZOFFSETFROM:+0100
TZOFFSETTO:+0000
TZNAME:GMT
DTSTART:20251026T010000
END:STANDARD
BEGIN:DAYLIGHT
TZOFFSETFROM:+0000
TZOFFSETTO:+0100
TZNAME:BST
DTSTART:20260329T010000
END:DAYLIGHT
BEGIN:STANDARD
TZOFFSETFROM:+0100
TZOFFSETTO:+0000
TZNAME:GMT
DTSTART:20261025T010000
END:STANDARD
END:VTIMEZONE
BEGIN:VEVENT
DTSTART;TZID=Asia/Tokyo:20251231T191500
DTEND;TZID=Asia/Tokyo:20251231T200000
DTSTAMP:20260425T050709
CREATED:20251028T022719Z
LAST-MODIFIED:20251224T003912Z
UID:10002916-1767208500-1767211200@www.niseko-village.com
SUMMARY:New Year's Eve Torch Run
DESCRIPTION:Fantastic torchlight illuminate the slopes at night\, marking the finale of the 2025 year! Join us with your friends and family to create excitement and memories together. \nMeeting Location: The Green Leaf Niseko Village\, Tapestry Collection by Hilton \nMeeting Time: 18:30 \nTorch Run Location: Banzai Slope
URL:https://www.niseko-village.com/event/new-years-eve-torch-run/
LOCATION:The Green Leaf Niseko Village
CATEGORIES:New Year’s Eve Event
ATTACH;FMTTYPE=image/jpeg:https://www.niseko-village.com/wp-content/uploads/2024/12/Torchlight.jpg
END:VEVENT
BEGIN:VEVENT
DTSTART;TZID=Asia/Tokyo:20251231T233000
DTEND;TZID=Asia/Tokyo:20251231T235000
DTSTAMP:20260425T050709
CREATED:20251224T011810Z
LAST-MODIFIED:20251224T011810Z
UID:10003613-1767223800-1767225000@www.niseko-village.com
SUMMARY:New Year's Taiko Drum Live Performance
DESCRIPTION:Come and feel the powerful rhythm of Japanese traditional taiko drums at Hilton Niseko Village! \nLocation: The Flame Bar & Lounge\, Hilton Niseko Village \nTime: 23:30~ \n 
URL:https://www.niseko-village.com/event/new-years-taiko-drum-live-performance/
LOCATION:The Flame\, Bar and Lounge\, Hilton Niseko Village
CATEGORIES:New Year’s Eve Event
ATTACH;FMTTYPE=image/png:https://www.niseko-village.com/wp-content/uploads/2023/10/hilton-niseko_1-e1766538961729.png
END:VEVENT
BEGIN:VEVENT
DTSTART;TZID=Europe/London:20251231T235900
DTEND;TZID=Europe/London:20260101T001000
DTSTAMP:20260425T050709
CREATED:20251029T064213Z
LAST-MODIFIED:20251224T011931Z
UID:10002921-1767225540-1767226200@www.niseko-village.com
SUMMARY:New Year's Countdown Fireworks
DESCRIPTION:Don’t miss the spectacular countdown fireworks display\, ushering in the New Year with a burst of dazzling lights and colours. Join us for this awe-inspiring celebration as we bid farewell to the past and welcome the future. \nLocation: Gondola Station \nTime: 00:00~
URL:https://www.niseko-village.com/event/countdown-fireworks-display-2/
LOCATION:Slopeside at Hilton Niseko Village
CATEGORIES:New Year’s Eve Event
ATTACH;FMTTYPE=image/png:https://www.niseko-village.com/wp-content/uploads/2023/10/Chinese-new-year-fireworks-display_18.9_1.png
END:VEVENT
END:VCALENDAR