BEGIN:VCALENDAR
VERSION:2.0
PRODID:-//Niseko Village - ECPv6.2.2//NONSGML v1.0//EN
CALSCALE:GREGORIAN
METHOD:PUBLISH
X-ORIGINAL-URL:https://www.niseko-village.com
X-WR-CALDESC:Events for Niseko Village
REFRESH-INTERVAL;VALUE=DURATION:PT1H
X-Robots-Tag:noindex
X-PUBLISHED-TTL:PT1H
BEGIN:VTIMEZONE
TZID:Asia/Tokyo
BEGIN:STANDARD
TZOFFSETFROM:+0900
TZOFFSETTO:+0900
TZNAME:JST
DTSTART:20250101T000000
END:STANDARD
END:VTIMEZONE
BEGIN:VEVENT
DTSTART;TZID=Asia/Tokyo:20260314T190000
DTEND;TZID=Asia/Tokyo:20260314T193000
DTSTAMP:20260426T045649
CREATED:20251120T012703Z
LAST-MODIFIED:20251120T022940Z
UID:10003493-1773514800-1773516600@www.niseko-village.com
SUMMARY:Taiko Drum Live Performance
DESCRIPTION:Come and feel the powerful rhythm of Japanese traditional taiko drums at Niseko-yo!
URL:https://www.niseko-village.com/event/taiko-drum-live-performance-niseko-yo/2026-03-14/
LOCATION:Niseko-yo
CATEGORIES:Leisure,Winter Event
ATTACH;FMTTYPE=image/png:https://www.niseko-village.com/wp-content/uploads/2023/10/yotei-taiko_18.9_1.png
END:VEVENT
BEGIN:VEVENT
DTSTART;TZID=Asia/Tokyo:20260312T193000
DTEND;TZID=Asia/Tokyo:20260312T200000
DTSTAMP:20260426T045649
CREATED:20251120T024858Z
LAST-MODIFIED:20251120T025022Z
UID:10003519-1773343800-1773345600@www.niseko-village.com
SUMMARY:Taiko Drum Live Performance
DESCRIPTION:Come and feel the powerful rhythm of Japanese traditional taiko drums at Niseko-yo!
URL:https://www.niseko-village.com/event/taiko-drum-live-performance-2/2026-03-12/
LOCATION:Niseko-yo
CATEGORIES:Leisure,Winter Event
ATTACH;FMTTYPE=image/png:https://www.niseko-village.com/wp-content/uploads/2023/10/yotei-taiko_18.9_1.png
END:VEVENT
BEGIN:VEVENT
DTSTART;TZID=Asia/Tokyo:20260310T190000
DTEND;TZID=Asia/Tokyo:20260310T193000
DTSTAMP:20260426T045649
CREATED:20251120T024039Z
LAST-MODIFIED:20251120T024205Z
UID:10003506-1773169200-1773171000@www.niseko-village.com
SUMMARY:Taiko Drum Live Performance
DESCRIPTION:Come and feel the powerful rhythm of Japanese traditional taiko drums at Niseko-yo!
URL:https://www.niseko-village.com/event/taiko-drum-live-performance/2026-03-10/
LOCATION:Niseko-yo
CATEGORIES:Leisure,Winter Event
ATTACH;FMTTYPE=image/png:https://www.niseko-village.com/wp-content/uploads/2023/10/yotei-taiko_18.9_1.png
END:VEVENT
BEGIN:VEVENT
DTSTART;VALUE=DATE:20250523
DTEND;VALUE=DATE:20250524
DTSTAMP:20260426T045649
CREATED:20250406T230032Z
LAST-MODIFIED:20250502T064123Z
UID:10002691-1747958400-1748044799@www.niseko-village.com
SUMMARY:Niseko Village Golf Competition
DESCRIPTION:Join us at the Niseko Village Golf Competition\, a premier event created for Niseko Village’s valued business partners. Enjoy a day where camaraderie meets competition\, as passionate golfers come together to connect\, strengthen relationships\, and savour great food in the true spirit of golf. \n 
URL:https://www.niseko-village.com/event/niseko-village-golf-competition/
LOCATION:Niseko Golf Course\, Fukui\, Niseko\, Abuta District\, Hokkaido\, 048-1561\, Japan
CATEGORIES:Leisure
ATTACH;FMTTYPE=image/jpeg:https://www.niseko-village.com/wp-content/uploads/2025/03/NVGC-Golfer-scaled.jpg
END:VEVENT
BEGIN:VEVENT
DTSTART;TZID=Asia/Tokyo:20250315T190000
DTEND;TZID=Asia/Tokyo:20250315T193000
DTSTAMP:20260426T045649
CREATED:20230927T005952Z
LAST-MODIFIED:20250301T064008Z
UID:10002685-1742065200-1742067000@www.niseko-village.com
SUMMARY:Taiko Live Drum Performance
DESCRIPTION:Come and feel the powerful rhythm of Yotei Daiko (羊蹄太鼓) at Niseko-yo! \nYotei Daiko is a part of Niseko area’s cultural heritage. Its beats are inspired by the beautiful nature surrounding Mt Yotei and tell the story of the lives of people in this snowy region.
URL:https://www.niseko-village.com/event/taiko/2025-03-15/
LOCATION:Niseko-yo
CATEGORIES:Leisure
ATTACH;FMTTYPE=image/png:https://www.niseko-village.com/wp-content/uploads/2023/10/yotei-taiko_18.9_1.png
END:VEVENT
END:VCALENDAR