BEGIN:VCALENDAR
VERSION:2.0
PRODID:-//Niseko Village - ECPv6.2.2//NONSGML v1.0//EN
CALSCALE:GREGORIAN
METHOD:PUBLISH
X-WR-CALNAME:Niseko Village
X-ORIGINAL-URL:https://www.niseko-village.com
X-WR-CALDESC:Events for Niseko Village
REFRESH-INTERVAL;VALUE=DURATION:PT1H
X-Robots-Tag:noindex
X-PUBLISHED-TTL:PT1H
BEGIN:VTIMEZONE
TZID:Asia/Tokyo
BEGIN:STANDARD
TZOFFSETFROM:+0900
TZOFFSETTO:+0900
TZNAME:JST
DTSTART:20260101T000000
END:STANDARD
END:VTIMEZONE
BEGIN:VEVENT
DTSTART;TZID=Asia/Tokyo:20260203T190000
DTEND;TZID=Asia/Tokyo:20260203T193000
DTSTAMP:20260426T075017
CREATED:20251120T024039Z
LAST-MODIFIED:20251120T024205Z
UID:10003501-1770145200-1770147000@www.niseko-village.com
SUMMARY:Taiko Drum Live Performance
DESCRIPTION:Come and feel the powerful rhythm of Japanese traditional taiko drums at Niseko-yo!
URL:https://www.niseko-village.com/event/taiko-drum-live-performance/2026-02-03/
LOCATION:Niseko-yo
CATEGORIES:Leisure,Winter Event
ATTACH;FMTTYPE=image/png:https://www.niseko-village.com/wp-content/uploads/2023/10/yotei-taiko_18.9_1.png
END:VEVENT
BEGIN:VEVENT
DTSTART;TZID=Asia/Tokyo:20260205T193000
DTEND;TZID=Asia/Tokyo:20260205T200000
DTSTAMP:20260426T075017
CREATED:20251120T024858Z
LAST-MODIFIED:20251120T025022Z
UID:10003514-1770319800-1770321600@www.niseko-village.com
SUMMARY:Taiko Drum Live Performance
DESCRIPTION:Come and feel the powerful rhythm of Japanese traditional taiko drums at Niseko-yo!
URL:https://www.niseko-village.com/event/taiko-drum-live-performance-2/2026-02-05/
LOCATION:Niseko-yo
CATEGORIES:Leisure,Winter Event
ATTACH;FMTTYPE=image/png:https://www.niseko-village.com/wp-content/uploads/2023/10/yotei-taiko_18.9_1.png
END:VEVENT
BEGIN:VEVENT
DTSTART;TZID=Asia/Tokyo:20260207T190000
DTEND;TZID=Asia/Tokyo:20260207T193000
DTSTAMP:20260426T075017
CREATED:20251120T012703Z
LAST-MODIFIED:20251120T022940Z
UID:10003488-1770490800-1770492600@www.niseko-village.com
SUMMARY:Taiko Drum Live Performance
DESCRIPTION:Come and feel the powerful rhythm of Japanese traditional taiko drums at Niseko-yo!
URL:https://www.niseko-village.com/event/taiko-drum-live-performance-niseko-yo/2026-02-07/
LOCATION:Niseko-yo
CATEGORIES:Leisure,Winter Event
ATTACH;FMTTYPE=image/png:https://www.niseko-village.com/wp-content/uploads/2023/10/yotei-taiko_18.9_1.png
END:VEVENT
BEGIN:VEVENT
DTSTART;TZID=Asia/Tokyo:20260210T190000
DTEND;TZID=Asia/Tokyo:20260210T193000
DTSTAMP:20260426T075017
CREATED:20251120T024039Z
LAST-MODIFIED:20251120T024205Z
UID:10003502-1770750000-1770751800@www.niseko-village.com
SUMMARY:Taiko Drum Live Performance
DESCRIPTION:Come and feel the powerful rhythm of Japanese traditional taiko drums at Niseko-yo!
URL:https://www.niseko-village.com/event/taiko-drum-live-performance/2026-02-10/
LOCATION:Niseko-yo
CATEGORIES:Leisure,Winter Event
ATTACH;FMTTYPE=image/png:https://www.niseko-village.com/wp-content/uploads/2023/10/yotei-taiko_18.9_1.png
END:VEVENT
BEGIN:VEVENT
DTSTART;TZID=Asia/Tokyo:20260212T193000
DTEND;TZID=Asia/Tokyo:20260212T200000
DTSTAMP:20260426T075017
CREATED:20251120T024858Z
LAST-MODIFIED:20251120T025022Z
UID:10003515-1770924600-1770926400@www.niseko-village.com
SUMMARY:Taiko Drum Live Performance
DESCRIPTION:Come and feel the powerful rhythm of Japanese traditional taiko drums at Niseko-yo!
URL:https://www.niseko-village.com/event/taiko-drum-live-performance-2/2026-02-12/
LOCATION:Niseko-yo
CATEGORIES:Leisure,Winter Event
ATTACH;FMTTYPE=image/png:https://www.niseko-village.com/wp-content/uploads/2023/10/yotei-taiko_18.9_1.png
END:VEVENT
BEGIN:VEVENT
DTSTART;TZID=Asia/Tokyo:20260214T190000
DTEND;TZID=Asia/Tokyo:20260214T193000
DTSTAMP:20260426T075017
CREATED:20251120T012703Z
LAST-MODIFIED:20251120T022940Z
UID:10003489-1771095600-1771097400@www.niseko-village.com
SUMMARY:Taiko Drum Live Performance
DESCRIPTION:Come and feel the powerful rhythm of Japanese traditional taiko drums at Niseko-yo!
URL:https://www.niseko-village.com/event/taiko-drum-live-performance-niseko-yo/2026-02-14/
LOCATION:Niseko-yo
CATEGORIES:Leisure,Winter Event
ATTACH;FMTTYPE=image/png:https://www.niseko-village.com/wp-content/uploads/2023/10/yotei-taiko_18.9_1.png
END:VEVENT
BEGIN:VEVENT
DTSTART;TZID=Asia/Tokyo:20260217T190000
DTEND;TZID=Asia/Tokyo:20260217T193000
DTSTAMP:20260426T075017
CREATED:20251120T024039Z
LAST-MODIFIED:20251120T024205Z
UID:10003503-1771354800-1771356600@www.niseko-village.com
SUMMARY:Taiko Drum Live Performance
DESCRIPTION:Come and feel the powerful rhythm of Japanese traditional taiko drums at Niseko-yo!
URL:https://www.niseko-village.com/event/taiko-drum-live-performance/2026-02-17/
LOCATION:Niseko-yo
CATEGORIES:Leisure,Winter Event
ATTACH;FMTTYPE=image/png:https://www.niseko-village.com/wp-content/uploads/2023/10/yotei-taiko_18.9_1.png
END:VEVENT
BEGIN:VEVENT
DTSTART;TZID=Asia/Tokyo:20260219T193000
DTEND;TZID=Asia/Tokyo:20260219T200000
DTSTAMP:20260426T075017
CREATED:20251120T024858Z
LAST-MODIFIED:20251120T025022Z
UID:10003516-1771529400-1771531200@www.niseko-village.com
SUMMARY:Taiko Drum Live Performance
DESCRIPTION:Come and feel the powerful rhythm of Japanese traditional taiko drums at Niseko-yo!
URL:https://www.niseko-village.com/event/taiko-drum-live-performance-2/2026-02-19/
LOCATION:Niseko-yo
CATEGORIES:Leisure,Winter Event
ATTACH;FMTTYPE=image/png:https://www.niseko-village.com/wp-content/uploads/2023/10/yotei-taiko_18.9_1.png
END:VEVENT
BEGIN:VEVENT
DTSTART;TZID=Asia/Tokyo:20260221T190000
DTEND;TZID=Asia/Tokyo:20260221T193000
DTSTAMP:20260426T075017
CREATED:20251120T012703Z
LAST-MODIFIED:20251120T022940Z
UID:10003490-1771700400-1771702200@www.niseko-village.com
SUMMARY:Taiko Drum Live Performance
DESCRIPTION:Come and feel the powerful rhythm of Japanese traditional taiko drums at Niseko-yo!
URL:https://www.niseko-village.com/event/taiko-drum-live-performance-niseko-yo/2026-02-21/
LOCATION:Niseko-yo
CATEGORIES:Leisure,Winter Event
ATTACH;FMTTYPE=image/png:https://www.niseko-village.com/wp-content/uploads/2023/10/yotei-taiko_18.9_1.png
END:VEVENT
BEGIN:VEVENT
DTSTART;TZID=Asia/Tokyo:20260224T190000
DTEND;TZID=Asia/Tokyo:20260224T193000
DTSTAMP:20260426T075017
CREATED:20251120T024039Z
LAST-MODIFIED:20251120T024205Z
UID:10003504-1771959600-1771961400@www.niseko-village.com
SUMMARY:Taiko Drum Live Performance
DESCRIPTION:Come and feel the powerful rhythm of Japanese traditional taiko drums at Niseko-yo!
URL:https://www.niseko-village.com/event/taiko-drum-live-performance/2026-02-24/
LOCATION:Niseko-yo
CATEGORIES:Leisure,Winter Event
ATTACH;FMTTYPE=image/png:https://www.niseko-village.com/wp-content/uploads/2023/10/yotei-taiko_18.9_1.png
END:VEVENT
BEGIN:VEVENT
DTSTART;TZID=Asia/Tokyo:20260226T193000
DTEND;TZID=Asia/Tokyo:20260226T200000
DTSTAMP:20260426T075017
CREATED:20251120T024858Z
LAST-MODIFIED:20251120T025022Z
UID:10003517-1772134200-1772136000@www.niseko-village.com
SUMMARY:Taiko Drum Live Performance
DESCRIPTION:Come and feel the powerful rhythm of Japanese traditional taiko drums at Niseko-yo!
URL:https://www.niseko-village.com/event/taiko-drum-live-performance-2/2026-02-26/
LOCATION:Niseko-yo
CATEGORIES:Leisure,Winter Event
ATTACH;FMTTYPE=image/png:https://www.niseko-village.com/wp-content/uploads/2023/10/yotei-taiko_18.9_1.png
END:VEVENT
BEGIN:VEVENT
DTSTART;TZID=Asia/Tokyo:20260228T190000
DTEND;TZID=Asia/Tokyo:20260228T193000
DTSTAMP:20260426T075017
CREATED:20251120T012703Z
LAST-MODIFIED:20251120T022940Z
UID:10003491-1772305200-1772307000@www.niseko-village.com
SUMMARY:Taiko Drum Live Performance
DESCRIPTION:Come and feel the powerful rhythm of Japanese traditional taiko drums at Niseko-yo!
URL:https://www.niseko-village.com/event/taiko-drum-live-performance-niseko-yo/2026-02-28/
LOCATION:Niseko-yo
CATEGORIES:Leisure,Winter Event
ATTACH;FMTTYPE=image/png:https://www.niseko-village.com/wp-content/uploads/2023/10/yotei-taiko_18.9_1.png
END:VEVENT
END:VCALENDAR