BEGIN:VCALENDAR
VERSION:2.0
PRODID:-//Niseko Village - ECPv6.2.2//NONSGML v1.0//EN
CALSCALE:GREGORIAN
METHOD:PUBLISH
X-ORIGINAL-URL:https://www.niseko-village.com
X-WR-CALDESC:Events for Niseko Village
REFRESH-INTERVAL;VALUE=DURATION:PT1H
X-Robots-Tag:noindex
X-PUBLISHED-TTL:PT1H
BEGIN:VTIMEZONE
TZID:Asia/Tokyo
BEGIN:STANDARD
TZOFFSETFROM:+0900
TZOFFSETTO:+0900
TZNAME:JST
DTSTART:20260101T000000
END:STANDARD
END:VTIMEZONE
BEGIN:VEVENT
DTSTART;TZID=Asia/Tokyo:20260101T193000
DTEND;TZID=Asia/Tokyo:20260101T200000
DTSTAMP:20260426T092935
CREATED:20251120T024858Z
LAST-MODIFIED:20251120T025022Z
UID:10003509-1767295800-1767297600@www.niseko-village.com
SUMMARY:Taiko Drum Live Performance
DESCRIPTION:Come and feel the powerful rhythm of Japanese traditional taiko drums at Niseko-yo!
URL:https://www.niseko-village.com/event/taiko-drum-live-performance-2/2026-01-01/
LOCATION:Niseko-yo
CATEGORIES:Leisure,Winter Event
ATTACH;FMTTYPE=image/png:https://www.niseko-village.com/wp-content/uploads/2023/10/yotei-taiko_18.9_1.png
END:VEVENT
BEGIN:VEVENT
DTSTART;TZID=Asia/Tokyo:20260103T190000
DTEND;TZID=Asia/Tokyo:20260103T193000
DTSTAMP:20260426T092935
CREATED:20251120T012703Z
LAST-MODIFIED:20251120T022940Z
UID:10003483-1767466800-1767468600@www.niseko-village.com
SUMMARY:Taiko Drum Live Performance
DESCRIPTION:Come and feel the powerful rhythm of Japanese traditional taiko drums at Niseko-yo!
URL:https://www.niseko-village.com/event/taiko-drum-live-performance-niseko-yo/2026-01-03/
LOCATION:Niseko-yo
CATEGORIES:Leisure,Winter Event
ATTACH;FMTTYPE=image/png:https://www.niseko-village.com/wp-content/uploads/2023/10/yotei-taiko_18.9_1.png
END:VEVENT
BEGIN:VEVENT
DTSTART;TZID=Asia/Tokyo:20260106T190000
DTEND;TZID=Asia/Tokyo:20260106T193000
DTSTAMP:20260426T092935
CREATED:20251120T024039Z
LAST-MODIFIED:20251120T024205Z
UID:10003497-1767726000-1767727800@www.niseko-village.com
SUMMARY:Taiko Drum Live Performance
DESCRIPTION:Come and feel the powerful rhythm of Japanese traditional taiko drums at Niseko-yo!
URL:https://www.niseko-village.com/event/taiko-drum-live-performance/2026-01-06/
LOCATION:Niseko-yo
CATEGORIES:Leisure,Winter Event
ATTACH;FMTTYPE=image/png:https://www.niseko-village.com/wp-content/uploads/2023/10/yotei-taiko_18.9_1.png
END:VEVENT
BEGIN:VEVENT
DTSTART;TZID=Asia/Tokyo:20260108T193000
DTEND;TZID=Asia/Tokyo:20260108T200000
DTSTAMP:20260426T092935
CREATED:20251120T024858Z
LAST-MODIFIED:20251120T025022Z
UID:10003510-1767900600-1767902400@www.niseko-village.com
SUMMARY:Taiko Drum Live Performance
DESCRIPTION:Come and feel the powerful rhythm of Japanese traditional taiko drums at Niseko-yo!
URL:https://www.niseko-village.com/event/taiko-drum-live-performance-2/2026-01-08/
LOCATION:Niseko-yo
CATEGORIES:Leisure,Winter Event
ATTACH;FMTTYPE=image/png:https://www.niseko-village.com/wp-content/uploads/2023/10/yotei-taiko_18.9_1.png
END:VEVENT
BEGIN:VEVENT
DTSTART;TZID=Asia/Tokyo:20260110T190000
DTEND;TZID=Asia/Tokyo:20260110T193000
DTSTAMP:20260426T092935
CREATED:20251120T012703Z
LAST-MODIFIED:20251120T022940Z
UID:10003484-1768071600-1768073400@www.niseko-village.com
SUMMARY:Taiko Drum Live Performance
DESCRIPTION:Come and feel the powerful rhythm of Japanese traditional taiko drums at Niseko-yo!
URL:https://www.niseko-village.com/event/taiko-drum-live-performance-niseko-yo/2026-01-10/
LOCATION:Niseko-yo
CATEGORIES:Leisure,Winter Event
ATTACH;FMTTYPE=image/png:https://www.niseko-village.com/wp-content/uploads/2023/10/yotei-taiko_18.9_1.png
END:VEVENT
BEGIN:VEVENT
DTSTART;TZID=Asia/Tokyo:20260113T190000
DTEND;TZID=Asia/Tokyo:20260113T193000
DTSTAMP:20260426T092935
CREATED:20251120T024039Z
LAST-MODIFIED:20251120T024205Z
UID:10003498-1768330800-1768332600@www.niseko-village.com
SUMMARY:Taiko Drum Live Performance
DESCRIPTION:Come and feel the powerful rhythm of Japanese traditional taiko drums at Niseko-yo!
URL:https://www.niseko-village.com/event/taiko-drum-live-performance/2026-01-13/
LOCATION:Niseko-yo
CATEGORIES:Leisure,Winter Event
ATTACH;FMTTYPE=image/png:https://www.niseko-village.com/wp-content/uploads/2023/10/yotei-taiko_18.9_1.png
END:VEVENT
BEGIN:VEVENT
DTSTART;TZID=Asia/Tokyo:20260115T193000
DTEND;TZID=Asia/Tokyo:20260115T200000
DTSTAMP:20260426T092935
CREATED:20251120T024858Z
LAST-MODIFIED:20251120T025022Z
UID:10003511-1768505400-1768507200@www.niseko-village.com
SUMMARY:Taiko Drum Live Performance
DESCRIPTION:Come and feel the powerful rhythm of Japanese traditional taiko drums at Niseko-yo!
URL:https://www.niseko-village.com/event/taiko-drum-live-performance-2/2026-01-15/
LOCATION:Niseko-yo
CATEGORIES:Leisure,Winter Event
ATTACH;FMTTYPE=image/png:https://www.niseko-village.com/wp-content/uploads/2023/10/yotei-taiko_18.9_1.png
END:VEVENT
BEGIN:VEVENT
DTSTART;TZID=Asia/Tokyo:20260117T190000
DTEND;TZID=Asia/Tokyo:20260117T193000
DTSTAMP:20260426T092935
CREATED:20251120T012703Z
LAST-MODIFIED:20251120T022940Z
UID:10003485-1768676400-1768678200@www.niseko-village.com
SUMMARY:Taiko Drum Live Performance
DESCRIPTION:Come and feel the powerful rhythm of Japanese traditional taiko drums at Niseko-yo!
URL:https://www.niseko-village.com/event/taiko-drum-live-performance-niseko-yo/2026-01-17/
LOCATION:Niseko-yo
CATEGORIES:Leisure,Winter Event
ATTACH;FMTTYPE=image/png:https://www.niseko-village.com/wp-content/uploads/2023/10/yotei-taiko_18.9_1.png
END:VEVENT
BEGIN:VEVENT
DTSTART;TZID=Asia/Tokyo:20260120T190000
DTEND;TZID=Asia/Tokyo:20260120T193000
DTSTAMP:20260426T092935
CREATED:20251120T024039Z
LAST-MODIFIED:20251120T024205Z
UID:10003499-1768935600-1768937400@www.niseko-village.com
SUMMARY:Taiko Drum Live Performance
DESCRIPTION:Come and feel the powerful rhythm of Japanese traditional taiko drums at Niseko-yo!
URL:https://www.niseko-village.com/event/taiko-drum-live-performance/2026-01-20/
LOCATION:Niseko-yo
CATEGORIES:Leisure,Winter Event
ATTACH;FMTTYPE=image/png:https://www.niseko-village.com/wp-content/uploads/2023/10/yotei-taiko_18.9_1.png
END:VEVENT
BEGIN:VEVENT
DTSTART;TZID=Asia/Tokyo:20260122T193000
DTEND;TZID=Asia/Tokyo:20260122T200000
DTSTAMP:20260426T092935
CREATED:20251120T024858Z
LAST-MODIFIED:20251120T025022Z
UID:10003512-1769110200-1769112000@www.niseko-village.com
SUMMARY:Taiko Drum Live Performance
DESCRIPTION:Come and feel the powerful rhythm of Japanese traditional taiko drums at Niseko-yo!
URL:https://www.niseko-village.com/event/taiko-drum-live-performance-2/2026-01-22/
LOCATION:Niseko-yo
CATEGORIES:Leisure,Winter Event
ATTACH;FMTTYPE=image/png:https://www.niseko-village.com/wp-content/uploads/2023/10/yotei-taiko_18.9_1.png
END:VEVENT
BEGIN:VEVENT
DTSTART;TZID=Asia/Tokyo:20260124T190000
DTEND;TZID=Asia/Tokyo:20260124T193000
DTSTAMP:20260426T092935
CREATED:20251120T012703Z
LAST-MODIFIED:20251120T022940Z
UID:10003486-1769281200-1769283000@www.niseko-village.com
SUMMARY:Taiko Drum Live Performance
DESCRIPTION:Come and feel the powerful rhythm of Japanese traditional taiko drums at Niseko-yo!
URL:https://www.niseko-village.com/event/taiko-drum-live-performance-niseko-yo/2026-01-24/
LOCATION:Niseko-yo
CATEGORIES:Leisure,Winter Event
ATTACH;FMTTYPE=image/png:https://www.niseko-village.com/wp-content/uploads/2023/10/yotei-taiko_18.9_1.png
END:VEVENT
BEGIN:VEVENT
DTSTART;TZID=Asia/Tokyo:20260127T190000
DTEND;TZID=Asia/Tokyo:20260127T193000
DTSTAMP:20260426T092935
CREATED:20251120T024039Z
LAST-MODIFIED:20251120T024205Z
UID:10003500-1769540400-1769542200@www.niseko-village.com
SUMMARY:Taiko Drum Live Performance
DESCRIPTION:Come and feel the powerful rhythm of Japanese traditional taiko drums at Niseko-yo!
URL:https://www.niseko-village.com/event/taiko-drum-live-performance/2026-01-27/
LOCATION:Niseko-yo
CATEGORIES:Leisure,Winter Event
ATTACH;FMTTYPE=image/png:https://www.niseko-village.com/wp-content/uploads/2023/10/yotei-taiko_18.9_1.png
END:VEVENT
BEGIN:VEVENT
DTSTART;TZID=Asia/Tokyo:20260129T193000
DTEND;TZID=Asia/Tokyo:20260129T200000
DTSTAMP:20260426T092935
CREATED:20251120T024858Z
LAST-MODIFIED:20251120T025022Z
UID:10003513-1769715000-1769716800@www.niseko-village.com
SUMMARY:Taiko Drum Live Performance
DESCRIPTION:Come and feel the powerful rhythm of Japanese traditional taiko drums at Niseko-yo!
URL:https://www.niseko-village.com/event/taiko-drum-live-performance-2/2026-01-29/
LOCATION:Niseko-yo
CATEGORIES:Leisure,Winter Event
ATTACH;FMTTYPE=image/png:https://www.niseko-village.com/wp-content/uploads/2023/10/yotei-taiko_18.9_1.png
END:VEVENT
BEGIN:VEVENT
DTSTART;TZID=Asia/Tokyo:20260131T190000
DTEND;TZID=Asia/Tokyo:20260131T193000
DTSTAMP:20260426T092935
CREATED:20251120T012703Z
LAST-MODIFIED:20251120T022940Z
UID:10003487-1769886000-1769887800@www.niseko-village.com
SUMMARY:Taiko Drum Live Performance
DESCRIPTION:Come and feel the powerful rhythm of Japanese traditional taiko drums at Niseko-yo!
URL:https://www.niseko-village.com/event/taiko-drum-live-performance-niseko-yo/2026-01-31/
LOCATION:Niseko-yo
CATEGORIES:Leisure,Winter Event
ATTACH;FMTTYPE=image/png:https://www.niseko-village.com/wp-content/uploads/2023/10/yotei-taiko_18.9_1.png
END:VEVENT
END:VCALENDAR